BEGIN:VCALENDAR
VERSION:2.0
PRODID:-//SER-Europe Chapter - ECPv6.15.20//NONSGML v1.0//EN
CALSCALE:GREGORIAN
METHOD:PUBLISH
X-ORIGINAL-URL:https://ser-europe.org
X-WR-CALDESC:Events for SER-Europe Chapter
REFRESH-INTERVAL;VALUE=DURATION:PT1H
X-Robots-Tag:noindex
X-PUBLISHED-TTL:PT1H
BEGIN:VTIMEZONE
TZID:UTC
BEGIN:STANDARD
TZOFFSETFROM:+0000
TZOFFSETTO:+0000
TZNAME:UTC
DTSTART:20250101T000000
END:STANDARD
END:VTIMEZONE
BEGIN:VEVENT
DTSTART;TZID=UTC:20260902T000000
DTEND;TZID=UTC:20260904T235959
DTSTAMP:20260420T010553
CREATED:20260119T102231Z
LAST-MODIFIED:20260119T105702Z
UID:4528-1788307200-1788566399@ser-europe.org
SUMMARY:Power to the Peatlands 2026 Conference
DESCRIPTION:Please save the dates in your calendar!\nWhen: 2\, 3\, and 4 September 2026\nWhere: Congrescentrum 1931\, ‘s-Hertogenbosch\, The Netherlands \nDescription:\nPower to the Peatlands 2026 will connect science\, policy\, and practice through lectures\, interactive workshops\, and field visits. The conference will focus on applying both existing and new knowledge and research to daily practices in management\, design\, environmental management and policy implementation. It offers a unique opportunity for researchers\, management officers\, market participants and government representatives to share experiences and results\, and engage in meaningful discussion. \n Learn more\nOrganisers:\nThe event is organised by Natuurmonumenten\, Radboud University\, Natuurpunt and the project partners of Interreg ADMIRE. \nThis is done in coalition with the European Chapter of the Society for Ecological Restoration\, Greifswald Mire Centre and Michael Succow Foundation\, Wetlands International and Eurosite.
URL:https://ser-europe.org/event/power-to-the-peatlands-2026-conference/
LOCATION:Congrescentrum 1931\, Oude Engelenseweg 1\, AA 's-Hertogenbosch\, 5222\, Netherlands
CATEGORIES:Conference
ATTACH;FMTTYPE=image/jpeg:https://ser-europe.org/files/2026/01/peatlands-conference.jpg
END:VEVENT
BEGIN:VEVENT
DTSTART;TZID=UTC:20260907T000000
DTEND;TZID=UTC:20260911T235959
DTSTAMP:20260420T010553
CREATED:20260320T120257Z
LAST-MODIFIED:20260320T120257Z
UID:4719-1788739200-1789171199@ser-europe.org
SUMMARY:Soils for Europe Conference
DESCRIPTION:The Soils for Europe conference\, co-organised by multiple Mission Soil projects\, will highlight panels on the Mission Objectives\, including cross-cutting sessions aiming to showcase the latest research being developed across Europe. The impact and contributions of scientists\, policymakers\, land managers\, civil society\, and industry representatives in research and innovation. \nWhile the event will allow for the showcasing of innovations being produced by various European-funded projects\, the conference will be open to all researchers and practitioners in an effort to bring together the best and most innovative initiatives in the European space\, including a day dedicated to the Living Labs initiatives. \n Learn more
URL:https://ser-europe.org/event/soils-for-europe-conference/
LOCATION:Coimbra\, Portugal
ATTACH;FMTTYPE=image/png:https://ser-europe.org/files/2026/03/1760455214Screenshot2025-10-14at12.27.24.png
END:VEVENT
BEGIN:VEVENT
DTSTART;TZID=UTC:20260917T000000
DTEND;TZID=UTC:20260918T235959
DTSTAMP:20260420T010553
CREATED:20260302T173440Z
LAST-MODIFIED:20260302T173440Z
UID:4653-1789603200-1789775999@ser-europe.org
SUMMARY:ALFAwetlands & REWET Final Conference
DESCRIPTION:The Final Conference of the ALFAwetlands and REWET projects\, taking place on 17–18 September 2026 in Brussels. \nThis joint event will bring together policy makers\, researchers\, practitioners\, and other interested stakeholders to reflect on project achievements and to discuss the future of wetland restoration in Europe in the context of EU climate and nature policies. \nThe event also includes field trips to the research sites: Living and Open Labs! \n Learn more
URL:https://ser-europe.org/event/alfawetlands-rewet-final-conference/
LOCATION:Brussels\, Belgium
ATTACH;FMTTYPE=image/jpeg:https://ser-europe.org/files/2026/03/Final-Conference_SaveTheDate_23-scaled.jpg
END:VEVENT
END:VCALENDAR