BEGIN:VCALENDAR
VERSION:2.0
PRODID:-//SER-Europe Chapter - ECPv6.15.20//NONSGML v1.0//EN
CALSCALE:GREGORIAN
METHOD:PUBLISH
X-WR-CALNAME:SER-Europe Chapter
X-ORIGINAL-URL:https://ser-europe.org
X-WR-CALDESC:Events for SER-Europe Chapter
REFRESH-INTERVAL;VALUE=DURATION:PT1H
X-Robots-Tag:noindex
X-PUBLISHED-TTL:PT1H
BEGIN:VTIMEZONE
TZID:UTC
BEGIN:STANDARD
TZOFFSETFROM:+0000
TZOFFSETTO:+0000
TZNAME:UTC
DTSTART:20200101T000000
END:STANDARD
END:VTIMEZONE
BEGIN:VEVENT
DTSTART;TZID=UTC:20210505T180000
DTEND;TZID=UTC:20210505T193000
DTSTAMP:20260424T212115
CREATED:20210329T170800Z
LAST-MODIFIED:20210406T174036Z
UID:2456-1620237600-1620243000@ser-europe.org
SUMMARY:State of Ecological Restoration in Estonia - SER Europe Webinar Series 2021
DESCRIPTION:Aveliina Helm\, University of Tartu\, Faculty of Science and Technology\, Institute of Ecology and Earth Sciences\n\n@Aveliina \nRegistration to the webinar ➡ ➡ ➡ NOW OPEN 💡 💡 💡  \nThis is the 4th of the webinar series by SER Europe in 2021 – Every 2nd Wednesday of the month 18hr CET a SER Europe member will lecture us on the State of Ecological Restoration on her/his Country\, followed by a Q&A and a conclusion on best practices and further research+innovation networking. \nWould like you to present your country\, region or landscape in a webinar? Write us an e-mail \n  \n 
URL:https://ser-europe.org/event/state-of-ecological-restoration-in-estonia-sere-webinar-series-2021/
END:VEVENT
BEGIN:VEVENT
DTSTART;TZID=UTC:20210520T093000
DTEND;TZID=UTC:20210520T110000
DTSTAMP:20260424T212115
CREATED:20210504T163102Z
LAST-MODIFIED:20210504T163102Z
UID:2486-1621503000-1621508400@ser-europe.org
SUMMARY:Restoring Europe's forests for people and the planet
DESCRIPTION:This is a webinar organized by IUCN Europe and the Portuguese Presidency of the EU. Check out all details on the event registration page.
URL:https://ser-europe.org/event/restoring-europes-forests-for-people-and-the-planet/
END:VEVENT
BEGIN:VEVENT
DTSTART;TZID=UTC:20210526T080000
DTEND;TZID=UTC:20210527T170000
DTSTAMP:20260424T212115
CREATED:20210115T114908Z
LAST-MODIFIED:20210115T114908Z
UID:2387-1622016000-1622134800@ser-europe.org
SUMMARY:European River Symposium 2021 (virtual)
DESCRIPTION:
URL:https://ser-europe.org/event/european-river-symposium-2021-virtual/
LOCATION:On-line event
END:VEVENT
END:VCALENDAR