BEGIN:VCALENDAR
VERSION:2.0
PRODID:-//SER-Europe Chapter - ECPv6.15.20//NONSGML v1.0//EN
CALSCALE:GREGORIAN
METHOD:PUBLISH
X-WR-CALNAME:SER-Europe Chapter
X-ORIGINAL-URL:https://ser-europe.org
X-WR-CALDESC:Events for SER-Europe Chapter
REFRESH-INTERVAL;VALUE=DURATION:PT1H
X-Robots-Tag:noindex
X-PUBLISHED-TTL:PT1H
BEGIN:VTIMEZONE
TZID:Europe/Paris
BEGIN:DAYLIGHT
TZOFFSETFROM:+0100
TZOFFSETTO:+0200
TZNAME:CEST
DTSTART:20250330T010000
END:DAYLIGHT
BEGIN:STANDARD
TZOFFSETFROM:+0200
TZOFFSETTO:+0100
TZNAME:CET
DTSTART:20251026T010000
END:STANDARD
BEGIN:DAYLIGHT
TZOFFSETFROM:+0100
TZOFFSETTO:+0200
TZNAME:CEST
DTSTART:20260329T010000
END:DAYLIGHT
BEGIN:STANDARD
TZOFFSETFROM:+0200
TZOFFSETTO:+0100
TZNAME:CET
DTSTART:20261025T010000
END:STANDARD
BEGIN:DAYLIGHT
TZOFFSETFROM:+0100
TZOFFSETTO:+0200
TZNAME:CEST
DTSTART:20270328T010000
END:DAYLIGHT
BEGIN:STANDARD
TZOFFSETFROM:+0200
TZOFFSETTO:+0100
TZNAME:CET
DTSTART:20271031T010000
END:STANDARD
END:VTIMEZONE
BEGIN:VEVENT
DTSTART;TZID=Europe/Paris:20260130T090000
DTEND;TZID=Europe/Paris:20260130T121500
DTSTAMP:20260421T151826
CREATED:20260119T110436Z
LAST-MODIFIED:20260119T110436Z
UID:4543-1769763600-1769775300@ser-europe.org
SUMMARY:Nature credits in the EU's coastal and marine ecosystems
DESCRIPTION:The Commission has undertaken to support Member States in the planning and implementation of measures to restore degraded coastal and marine habitats to reach the legally binding target under the Nature Restoration Regulation of covering at least 20% of EU sea areas with necessary measures by 2030 and all ecosystems in need of restoration by 2050. \nAs part of this effort\, on 7 July 2025\, the European Commission published a Roadmap towards Nature Credits\, outlining a strategic approach to stimulate private investment in nature-positive actions across the EU. The initiative aims to complement public funding by creating market-based incentives to protect and restore nature. It seeks to reward those who actively contribute to ecosystem restoration and conservation (including farmers\, foresters\, fishers\, landowners\, and local communities) and to encourage investors to support these efforts. \nThis workshop is part of the consultation on the Roadmap\, focusing on coastal and marine ecosystems. It will take stock of what has already been done\, see what has worked and what else is needed to develop transparent criteria and methodologies that prevent risks and ensure integrity on both supply and demand side while being simple and practical\, relying wherever possible on existing principles or standards. \n Register here
URL:https://ser-europe.org/event/nature-credits-in-the-eus-coastal-and-marine-ecosystems/
LOCATION:Online
CATEGORIES:Training,Workshop
ATTACH;FMTTYPE=image/jpeg:https://ser-europe.org/files/2026/01/Posidonia_oceanica__0.jpg
END:VEVENT
END:VCALENDAR