BEGIN:VCALENDAR
VERSION:2.0
PRODID:-//SER-Europe Chapter - ECPv6.15.20//NONSGML v1.0//EN
CALSCALE:GREGORIAN
METHOD:PUBLISH
X-ORIGINAL-URL:https://ser-europe.org
X-WR-CALDESC:Events for SER-Europe Chapter
REFRESH-INTERVAL;VALUE=DURATION:PT1H
X-Robots-Tag:noindex
X-PUBLISHED-TTL:PT1H
BEGIN:VTIMEZONE
TZID:UTC
BEGIN:STANDARD
TZOFFSETFROM:+0000
TZOFFSETTO:+0000
TZNAME:UTC
DTSTART:20250101T000000
END:STANDARD
END:VTIMEZONE
BEGIN:VEVENT
DTSTART;TZID=UTC:20260824T000000
DTEND;TZID=UTC:20260828T235959
DTSTAMP:20260420T011942
CREATED:20251201T160158Z
LAST-MODIFIED:20260216T113046Z
UID:4316-1787529600-1787961599@ser-europe.org
SUMMARY:15th European Conference on Ecological Restoration
DESCRIPTION:The University of Brest (UBO)\, in collaboration with SER-Europe and the French Ecological Restoration Network (REVER)\, will host the 15th European Conference on Ecological Restoration (SERE2026) in Brest\, France from the 24-28 of August 2026. \nUBO’s Laboratoire Géoarchitecture\, active in restoration ecology since the early 2000s\, is leading the organization of the event. The conference will provide a timely platform to assess progress on National Restoration Plans required under the EU Nature Restoration Regulation. \nWhy should you attend?\nSERE2026 offers an opportunity to exchange knowledge and strengthen restoration practice across Europe. Participants will be able to: \n\nExplore strategies for restoring wetland\, forest\, agroecosystem\, urban\, and marine habitats\nExchange knowledge aligned with implementation of the EU Nature Restoration Regulation\nConnect with researchers\, practitioners\, and policymakers\nEngage in discussion on the socioeconomic and governance dimensions of restoration\n\nJoin colleagues in Brest to advance standards-based ecological restoration in Europe. \n Visit the Conference Website\nImportant Dates:\n\nCall for Proposals closes: 1 March 2026\nCall for Abstracts open: 16 March to 31 May 2026\nRegular registration: 16 March to 31 May 2026\nLate registration: 1 June to 1 August 2026\n\n  \n  \n  \n 
URL:https://ser-europe.org/event/15th-european-conference-on-ecological-restoration/
LOCATION:University in Brest\, 3 Rue Matthieu Gallou\, Brest\, Brittany\, 29200\, France
CATEGORIES:Conference,Conferences & workshops
ATTACH;FMTTYPE=image/png:https://ser-europe.org/files/2025/12/Banniere_980x150-1.png
END:VEVENT
END:VCALENDAR