BEGIN:VCALENDAR
VERSION:2.0
PRODID:-//SER-Europe Chapter - ECPv6.15.20//NONSGML v1.0//EN
CALSCALE:GREGORIAN
METHOD:PUBLISH
X-WR-CALNAME:SER-Europe Chapter
X-ORIGINAL-URL:https://ser-europe.org
X-WR-CALDESC:Events for SER-Europe Chapter
REFRESH-INTERVAL;VALUE=DURATION:PT1H
X-Robots-Tag:noindex
X-PUBLISHED-TTL:PT1H
BEGIN:VTIMEZONE
TZID:UTC
BEGIN:STANDARD
TZOFFSETFROM:+0000
TZOFFSETTO:+0000
TZNAME:UTC
DTSTART:20200101T000000
END:STANDARD
END:VTIMEZONE
BEGIN:VEVENT
DTSTART;TZID=UTC:20210715T120000
DTEND;TZID=UTC:20210715T130000
DTSTAMP:20260422T141455
CREATED:20210709T114130Z
LAST-MODIFIED:20210709T114130Z
UID:2525-1626350400-1626354000@ser-europe.org
SUMMARY:Investing in Forest and Landscape Restoration
DESCRIPTION:A fireside chat with Edit Kiss and Esther Mutuma\nJoin us for a learning event focused on the current state of Investing in Forest and Landscape Restoration\, 15 July 2021 at 12:00 CEST.\nThis session will use a conversation format with two experts discussing their experiences as they highlight opportunities and challenges.\nEsther and Edit will discuss:\n\n\nThe opportunities and challenges of restoration finance and engaging the private sector;\n\n\nKey elements that are attractive to investors and what this means in reality;\n\n\nExperience and lessons learned from past investment cases;
URL:https://ser-europe.org/event/investing-in-forest-and-landscape-restoration/
LOCATION:On-line event
END:VEVENT
END:VCALENDAR