BEGIN:VCALENDAR
VERSION:2.0
PRODID:-//SER-Europe Chapter - ECPv6.15.20//NONSGML v1.0//EN
CALSCALE:GREGORIAN
METHOD:PUBLISH
X-ORIGINAL-URL:https://ser-europe.org
X-WR-CALDESC:Events for SER-Europe Chapter
REFRESH-INTERVAL;VALUE=DURATION:PT1H
X-Robots-Tag:noindex
X-PUBLISHED-TTL:PT1H
BEGIN:VTIMEZONE
TZID:UTC
BEGIN:STANDARD
TZOFFSETFROM:+0000
TZOFFSETTO:+0000
TZNAME:UTC
DTSTART:20200101T000000
END:STANDARD
END:VTIMEZONE
BEGIN:VEVENT
DTSTART;TZID=UTC:20210615T153000
DTEND;TZID=UTC:20210617T183000
DTSTAMP:20260424T173957
CREATED:20210216T082810Z
LAST-MODIFIED:20210216T082810Z
UID:2431-1623771000-1623954600@ser-europe.org
SUMMARY:16th Conference of the Society of Scientists and Wetlands - Europe
DESCRIPTION:  \nEvent only with afternoon sessions. Registrations limited to 100 participants.
URL:https://ser-europe.org/event/16th-conference-of-the-society-of-scientists-and-wetlands-europe/
LOCATION:La Tour de Valat (on-line)\, France
ATTACH;FMTTYPE=image/png:https://ser-europe.org/files/2021/02/Imagen1-2.png
END:VEVENT
END:VCALENDAR